BEGIN:VCALENDAR
VERSION:2.0
PRODID:-//myconvento.com//NONSGML Version 1//DE
METHOD:PUBLISH
BEGIN:VEVENT
UID:8b00ea46e3e43508c955c29ba33a0980-myconvento.com
DESCRIPTION:Veranstaltungsort: in Microsoft Teams.\nURL: https://teams.microsoft.com/l/meetup-join/19%3ameeting_OWNlMzk5MjYtZGM5OC00MmQ1LWJmYzgtNWNjMWU0YTUyZDVj@thread.v2/0?context=%7b%22Tid%22%3a%2230a20659-f2d5-4987-90c4-02d967a33494%22%2c%22Oid%22%3a%221a16761e-dc83-4fa4-b7d8-920542ab7395%22%7d\n\nDie DPRG Nord lädt herzlich ein zum Talk mit Katharina von Croy, Presse- und Öffentlichkeitsarbeit des Deutschen Berufsverbands für Pflegeberufe, Manfred Wagner, Medizinischer Direktor des Klinikum Fürth und Nicola Wessinghage, Geschäftsführerin der Agentur „Mann beißt Hund“ über die (kommunikativen) Lehren aus der Pandemie für Gesundheitsorganisationen in Deutschland.
SUMMARY:„(Kommunikative) Lehren aus der Pandemie in Klinik, Pflege und Forschung“
DTSTART:20210609T160000Z
DTEND:20210609T160000Z
DTSTAMP:20260424T144949Z
LOCATION:in Microsoft Teams.
SEQUENCE:0
CLASS:PUBLIC
STATUS:CONFIRMED
END:VEVENT
END:VCALENDAR