BEGIN:VCALENDAR
VERSION:2.0
PRODID:-//myconvento.com//NONSGML Version 1//DE
METHOD:PUBLISH
BEGIN:VEVENT
UID:78673f159dd0b138108e5bfac7be5f8c-myconvento.com
DESCRIPTION:In Zusammenarbeit mit unserem Partner “Die Bildbeschaffer” aus Hamburg laden wir zu einem kostenlosen Workshop exklusiv für DPRG-Mitglieder am 24. Mai von 17:30 Uhr bis ca. 19 Uhr ein. Der Schwerpunkt liegt auf den Themen Bildrechte und Nutzungsrechte, insbesondere in sozialen Medien. Alexander Karst, Co-Geschäftsführer und Gründer der Agentur, gibt Antworten und praktische Hinweise:\n- Eigene Bilder, Bilder von Partnern, Stock: welche Bildquellen sind sicher?\n- Do’s & Don'ts\n- Stil, Inhalt, Recht und Technik: Unterschiede zwischen Social, Web und Print\n- Relevantes aus dem neuen Urheberrecht 2021\n- Welche Fragen müssen bei Bildeinkauf, Bildnutzung beachtet werden?\n- Fragen von Teilnehmern und Beispiele aus der Praxis
SUMMARY:Mitglieder-Workshop Bildrechte und Social Media - kompaktes Wissen für die Praxis
DTSTART:20220524T153000Z
DTEND:20220524T170000Z
DTSTAMP:20260424T154934Z
LOCATION:
SEQUENCE:0
CLASS:PUBLIC
STATUS:CONFIRMED
END:VEVENT
END:VCALENDAR