BEGIN:VCALENDAR
VERSION:2.0
PRODID:-//myconvento.com//NONSGML Version 1//DE
METHOD:PUBLISH
BEGIN:VEVENT
UID:3a93fc140fa6e8bc3b977885e755afe7-myconvento.com
DESCRIPTION:
SUMMARY:Wertschätzende Führung – Die Basis für ein gesundes Unternehmen
DTSTART:20250710T070000Z
DTEND:20250710T070000Z
DTSTAMP:20260422T100339Z
LOCATION:
SEQUENCE:0
CLASS:PUBLIC
STATUS:CONFIRMED
END:VEVENT
END:VCALENDAR