BEGIN:VCALENDAR
VERSION:2.0
PRODID:-//myconvento.com//NONSGML Version 1//DE
METHOD:PUBLISH
BEGIN:VEVENT
UID:5f172f8ea0dc073f2979ee5352ea1e8a-myconvento.com
DESCRIPTION:Veranstaltungsort: Hochschule Macromedia\nAdresse:\nBrüderstraße 17\n50667 Köln\n\nWir freuen uns, endlich mal wieder persönlich mit Euch zu den aktuell drängendsten Themen in der Kommunikation sprechen und Lösungsmöglichkeiten erarbeiten zu können. Ab 18.30 Uhr veranstalten wir gemeinsam mit der Hochschule Macromedia, dem PR-Magazin und der Agentur komm.passion eine Podiumsdiskussion, die den Titel trägt „Interne Kommunikation mit und nach Corona: Entwicklungen 2013-2021“.\nAb 18.30 Uhr veranstalten wir gemeinsam mit der Hochschule Macromedia, dem PR-Magazin und der Agentur komm.passion eine Podiumsdiskussion, die den Titel trägt „Interne Kommunikation mit und nach Corona: Entwicklungen 2013-2021“. Mit uns diskutieren  Bettina Busch, Geschäftsführerin, Eckhard Busch Stiftung, Florian Dieckmann, Vice President und Head of Global Communications, Grünenthal Group, Prof. Dr. Alexander Güttler, CEO, komm.passion und Philipp Schindera, Leiter Unternehmenskommunikation, Deutsche Telekom. Moderieren wird Prof. Dr. Holger Sievert, Professor für Kommunikationsmanagement, Hochschule Macromedia.
SUMMARY:Vor-Ort Arbeitskreistag Interne Kommunikation in Köln
DTSTART:20221026T120000Z
DTEND:20221026T180000Z
DTSTAMP:20260424T130251Z
LOCATION:Hochschule Macromedia
SEQUENCE:0
CLASS:PUBLIC
STATUS:CONFIRMED
END:VEVENT
END:VCALENDAR