BEGIN:VCALENDAR
VERSION:2.0
PRODID:-//myconvento.com//NONSGML Version 1//DE
METHOD:PUBLISH
BEGIN:VEVENT
UID:a4fa8aac71bd60b1d5e3fe38c47891ce-myconvento.com
DESCRIPTION:Veranstaltungsort: Stuttgart\n\nZum Auftakt des neuen Formats „walk & talk“ freuen wir uns auf einen Spaziergang mit Sven Matis. Er ist seit 15 Jahren bei der Stadt Stuttgart, hat zunächst dort volontiert, wurde als Pressesprecher in der Hochphase von Stuttgart 21 übernommen und leitet seit 2014 die Pressestelle. Er koordiniert ein Team von drei Sprecherinnen und Sprechern & einer Volontärin, berät die Bürgermeister:innen der Stadt und Fachverwaltung in Kommunikationsfragen und ist Mitglied in den Krisenstäben.\n\nDas Format „walk & talk“ soll den ungezwungenen Austausch zwischen DPRG-Mitgliedern und einem Gast ermöglichen. Wir spazieren gemeinsam durch die Stadt und kommen so mit- und untereinander ins Gespräch. Die Route legt unser Gast nach Lust und Laune fest, die Fragen kommen von uns. Im Anschluss an den Spaziergang vertiefen wir die Gespräche bei einem Getränk.\n\nAnmeldung: Die Teilnahme ist auf 14 Personen beschränkt. Der Treffpunkt wird nach der Anmeldung bekanntgegeben.
SUMMARY:16.10.2023, 18:30 Uhr: walk & talk mit Sven Matis
DTSTART:20231016T163000Z
DTEND:20231016T163000Z
DTSTAMP:20260420T100637Z
LOCATION:Stuttgart
SEQUENCE:0
CLASS:PUBLIC
STATUS:CONFIRMED
END:VEVENT
END:VCALENDAR