BEGIN:VCALENDAR
VERSION:2.0
PRODID:-//myconvento.com//NONSGML Version 1//DE
METHOD:PUBLISH
BEGIN:VEVENT
UID:aea286fd8739bcf774019e7c02f4e99d-myconvento.com
DESCRIPTION:Veranstaltungsort: Microsoft Teams\n\nWir wollen mit einem „Freelance-Breakfast“ am Freitag, 14. Oktober, um 8:30 Uhr in den Herbst starten. Diesmal treffen wir uns ohne Referenten – „unter uns“. Als Agenda planen wir zwei Punkte:  Vernetzen als Freie in der DPRG: Wir wollen uns im Netzwerk gegenseitig nach vorne bringen, also müssen wir uns erst einmal untereinander kennenlernen. Wir laden euch ein, euch mit ein paar Stichworten vorzustellen. DPRG Insights: Wie kann ich die Tools und Angebote der DPRG für meine Vernetzung nutzen? Wie werde ich selbst aktiv?
SUMMARY:Freelance-Breakfast am 14.10.2022: Einladung zur Vernetzung
DTSTART:20221014T063000Z
DTEND:20221014T073000Z
DTSTAMP:20260424T172850Z
LOCATION:Microsoft Teams
SEQUENCE:0
CLASS:PUBLIC
STATUS:CONFIRMED
END:VEVENT
END:VCALENDAR