BEGIN:VCALENDAR
VERSION:2.0
PRODID:-//myconvento.com//NONSGML Version 1//DE
METHOD:PUBLISH
BEGIN:VEVENT
UID:3df05b71d77122cbf3703a70725cd9c9-myconvento.com
DESCRIPTION:Veranstaltungsort: Würzburg\n\nwir laden alle Selbständigen in der PR – frische Gründer*innen wie auch langjährige Freie – ein, beim ersten Netzwerktag für PR-Unternehmer*innen ihre Erfahrungen einzubringen und mit anderen zu teilen. Ähnlich wie bei einem Barcamp bestimmen die Teilnehmer*innen die Inhalte. Das Lenkungsteam setzt den Rahmen und liefert Impulse. Denn das Wissen steckt in euch, den Mitgliedern der DPRG und aktiven PR-Unternehmer*innen. Teilen wir dieses Know-how, damit jede und jeder erfolgreicher arbeiten kann. Darum geht es beim „Starting-up: Der Netzwerktag für Selbständige in PR am 11. Mai in Würzburg.
SUMMARY:Starting-Up: Der Netzwerktag für Selbständige in der PR
DTSTART:20230511T080000Z
DTEND:20230511T160000Z
DTSTAMP:20260424T134622Z
LOCATION:Würzburg
SEQUENCE:0
CLASS:PUBLIC
STATUS:CONFIRMED
END:VEVENT
END:VCALENDAR