BEGIN:VCALENDAR
VERSION:2.0
PRODID:-//myconvento.com//NONSGML Version 1//DE
BEGIN:VEVENT
UID:1402b7afde3b6c6c59235f52a9c34a25-myconvento.com
SUMMARY:Von Change und Post-Millennials - Arbeitskreis Interne Kommunikation, Change & New Work
URL;VALUE=URI:
DESCRIPTION:Veranstaltungsort: in einer Teams Video-Session\n\nZum Jahresbeginn möchten wir uns mit Trendthemen beschäftigen, allerdings nicht im Sinne einer der beliebten Listen "10 Kommunikationstrends für 2022" und auch nicht theoretisch, sondern ganz praktisch anhand zweier Beispiele.
LOCATION:in einer Teams Video-Session
DTSTART:20220223T150000Z
DTEND:20220223T163000Z
DTSTAMP:20260424T145112Z
SEQUENCE:0
CLASS:PUBLIC
STATUS:CONFIRMED
END:VEVENT
END:VCALENDAR