BEGIN:VCALENDAR
VERSION:2.0
PRODID:-//myconvento.com//NONSGML Version 1//DE
BEGIN:VEVENT
UID:d8c03102481b1082542995a58f86c977-myconvento.com
SUMMARY:Bumerang-Gefahr in der Unternehmenskommunikation: Haltung zwischen Aufrichtigkeit und Moral
URL;VALUE=URI:
DESCRIPTION:Veranstaltungsort: Microsoft-Teams\n\nAls Arbeitskreis MediaPolitics beschäftigen wir uns mit der Frage der Haltung in der Unternehmenskommunikation. Müssen sich Unternehmen zu politischen Entwicklungen äußern? Nur, wenn sie gefragt werden, vorauseilend oder nur dann, wenn es etwas mit ihrem Geschäft zu tun hat? Gleichzeitig forscht die mediale Öffentlichkeit kritisch nach, ob Worte und Taten übereinstimmen. Für eine Consumer-Marke kann ein einzelner Post schnell einen Shitstorm entfachen. Wo liegen die Risiken für B2B- und Industrie-Unternehmen?
LOCATION:Microsoft-Teams
DTSTART:20220726T103000Z
DTEND:20220726T113000Z
DTSTAMP:20260424T155102Z
SEQUENCE:0
CLASS:PUBLIC
STATUS:CONFIRMED
END:VEVENT
END:VCALENDAR