BEGIN:VCALENDAR
VERSION:2.0
PRODID:-//myconvento.com//NONSGML Version 1//DE
BEGIN:VEVENT
UID:0ee2469ad92d658912b94635f489e5a1-myconvento.com
SUMMARY:Erster virtueller Lunchtalk des Arbeitskreises MediaPolitics 
URL;VALUE=URI:
DESCRIPTION:Nach einem gelungenen Start unseres Arbeitskreises MediaPolitics mit unserem Panel auf den Takeoffs 2023, treffen wir uns jetzt zu unserem 1. virtuellen Arbeitstreffen in diesem Jahr. Bei einer gemeinsamen virtuellen Lunchpause wollen wir über folgende Themen sprechen: \n•	Organisation des Arbeitskreises\n•	Bevorstehende Veranstaltungen u.a. mit „Horizont“ \n•	Aktuelle Themen des Arbeitskreises (Umfrage, Whitepaper)
LOCATION:
DTSTART:20230309T113000Z
DTEND:20230309T113000Z
DTSTAMP:20260424T162506Z
SEQUENCE:0
CLASS:PUBLIC
STATUS:CONFIRMED
END:VEVENT
END:VCALENDAR