BEGIN:VCALENDAR
VERSION:2.0
PRODID:-//myconvento.com//NONSGML Version 1//DE
BEGIN:VEVENT
UID:1163e1914098346b27dfa40d6c22469d-myconvento.com
SUMMARY:Expert Talk: Fake News bekämpfen, Urheberrechte schützen – Die Content Authenticity Initiative
URL;VALUE=URI:
DESCRIPTION:Veranstaltungsort: Teams Websession\n\nFake News und Urheberrechte sind zwei zentrale Handlungsfelder in der digital vernetzten Medienwelt. In der Content Authenticity Initiative (CAI) haben sich vor rund zwei Jahren Urheber, Technologie- und Medienunternehmen, Journalisten und Aktivisten zusammengeschlossen, um Desinformationen zu bekämpfen und Urheber:innen eine Möglichkeit zu geben, Ihre Werke zu authentifizieren. Grundlage für die Arbeit der CAI sind offene technische Standards für die Überprüfung und Zuordnung von Medieninhalten. Zu den Trägern der Initiative gehören u. a. Adobe, Microsoft, die New York Times, Twitter und die BBC. Bei unserem Expert Talk am 14. Dezember 2021 wird uns Stefanie Valdés-Scott, Leiterin Government Relations bei Adobe, die CAI vorstellen und erklären, wie Unternehmenskommunikation, PR und Marketing von der Arbeit der Initiative profitieren können.
LOCATION:Teams Websession
DTSTART:20211214T120000Z
DTEND:20211214T120000Z
DTSTAMP:20260424T155026Z
SEQUENCE:0
CLASS:PUBLIC
STATUS:CONFIRMED
END:VEVENT
END:VCALENDAR